BEGIN:VCALENDAR
VERSION:2.0
PRODID:-//Contratero//ES
CALSCALE:GREGORIAN
METHOD:PUBLISH
BEGIN:VEVENT
UID:11/2022 AB (SG/DSP)@contratero.es
DTSTAMP:20260422T044804Z
DTSTART:20220921T235959
DTEND:20220922T005959
SUMMARY:Cierre: Servicio de alojamiento de la infraestructura\, ges
DESCRIPTION:Servicio de alojamiento de la infraestructura\, gestión\, administración y explotación de los centros de procesos de datos (CPDs) y el soporte a usuarios del CDTI\\n\\nOrganismo: Dirección General del Centro para el Desarrollo Tecnológico y la Innovación\, E.P.E\\n\\nVer en Contratero: https://contratero.es/contracts/11/2022 AB (SG/DSP)
URL:https://contratero.es/contracts/11/2022 AB (SG/DSP)
STATUS:CONFIRMED
BEGIN:VALARM
TRIGGER:-P1D
ACTION:DISPLAY
DESCRIPTION:Recordatorio: Servicio de alojamiento de la 
END:VALARM
END:VEVENT
END:VCALENDAR